View In:
ArcGIS JavaScript
ArcGIS Online Map Viewer
ArcGIS Earth
Service Description: Anomalia Gravimetrica de Bouger
Name: maceio/anomalia_gravimetrica_bouguer
Description: Anomalia Gravimetrica de Bouger
Single Fused Map Cache: false
Extent:
XMin: -35.75453000000001
YMin: -9.642338000000002
XMax: -35.72662386666667
YMax: -9.616641666666666
Spatial Reference: 4674
(4674)
Initial Extent:
XMin: -35.75453000000001
YMin: -9.642338000000002
XMax: -35.72662386666667
YMax: -9.616641666666666
Spatial Reference: 4674
(4674)
Full Extent:
XMin: -35.75453000000001
YMin: -9.642338000000002
XMax: -35.72662386666667
YMax: -9.616641666666666
Spatial Reference: 4674
(4674)
Pixel Size X: 8.466666666668325E-6
Pixel Size Y: 8.46666666666754E-6
Band Count: 3
Pixel Type: U8
RasterFunction Infos: {"rasterFunctionInfos": [{
"name": "None",
"description": "",
"help": ""
}]}
Mensuration Capabilities: Basic
Inspection Capabilities:
Has Histograms: true
Has Colormap: false
Has Multi Dimensions : false
Rendering Rule:
Min Scale: 0
Max Scale: 0
Copyright Text: Serviço Geológico do Brasil - SGB - CPRM
Service Data Type: esriImageServiceDataTypeRGB
Min Values: 0, 0, 0
Max Values: 255, 255, 255
Mean Values: 163.24834955456, 166.8216208354, 132.12765110923
Standard Deviation Values: 101.72989714185, 94.850634672268, 116.91972802516
Object ID Field:
Fields:
None
Default Mosaic Method: Center
Allowed Mosaic Methods:
SortField:
SortValue: null
Mosaic Operator: First
Default Compression Quality: 75
Default Resampling Method: Bilinear
Max Record Count: null
Max Image Height: 4100
Max Image Width: 15000
Max Download Image Count: null
Max Mosaic Image Count: null
Allow Raster Function: true
Allow Copy: true
Allow Analysis: true
Allow Compute TiePoints: false
Supports Statistics: false
Supports Advanced Queries: false
Use StandardizedQueries: true
Raster Type Infos:
Name: Raster Dataset
Description: Supports all ArcGIS Raster Datasets
Help:
Has Raster Attribute Table: false
Edit Fields Info: null
Ownership Based AccessControl For Rasters: null
Child Resources:
Info
Histograms
Statistics
Key Properties
Legend
Raster Function Infos
Supported Operations:
Export Image
Identify
Measure
Compute Histograms
Compute Statistics Histograms
Get Samples
Compute Class Statistics
Query Boundary
Compute Pixel Location
Compute Angles
Validate
Project