{
 "currentVersion": 11.3,
 "serviceDescription": "Anomalia Gravimetrica de Bouger ",
 "name": "maceio/anomalia_gravimetrica_bouguer",
 "description": "Anomalia Gravimetrica de Bouger ",
 "extent": {
  "xmin": -35.75453000000001,
  "ymin": -9.642338000000002,
  "xmax": -35.72662386666667,
  "ymax": -9.616641666666666,
  "spatialReference": {
   "wkid": 4674,
   "latestWkid": 4674
  }
 },
 "initialExtent": {
  "xmin": -35.75453000000001,
  "ymin": -9.642338000000002,
  "xmax": -35.72662386666667,
  "ymax": -9.616641666666666,
  "spatialReference": {
   "wkid": 4674,
   "latestWkid": 4674
  }
 },
 "fullExtent": {
  "xmin": -35.75453000000001,
  "ymin": -9.642338000000002,
  "xmax": -35.72662386666667,
  "ymax": -9.616641666666666,
  "spatialReference": {
   "wkid": 4674,
   "latestWkid": 4674
  }
 },
 "sortableFields": "",
 "bandCount": 3,
 "pixelType": "U8",
 "minValues": [
  0,
  0,
  0
 ],
 "maxValues": [
  255,
  255,
  255
 ],
 "meanValues": [
  163.24834955456,
  166.8216208354,
  132.12765110923
 ],
 "stdvValues": [
  101.72989714185,
  94.850634672268,
  116.91972802516
 ],
 "hasMultidimensions": false,
 "pixelSizeX": 8.466666666668325E-6,
 "pixelSizeY": 8.46666666666754E-6,
 "meanPixelSize": 0.942505022049857,
 "datasetFormat": "TIFF",
 "uncompressedSize": 30010080,
 "blockWidth": 3296,
 "blockHeight": 1,
 "compressionType": "PACKBITS",
 "bandNames": [
  "Band_1",
  "Band_2",
  "Band_3"
 ],
 "allowCopy": true,
 "allowAnalysis": true,
 "itemAccess": false,
 "inspectionCapabilities": "",
 "minPixelSize": 0,
 "maxPixelSize": 0,
 "copyrightText": "Serviço Geológico do Brasil - SGB - CPRM",
 "serviceDataType": "esriImageServiceDataTypeRGB",
 "serviceSourceType": "esriImageServiceSourceTypeDataset",
 "objectIdField": "",
 "fields": [],
 "capabilities": "Image,Metadata,Mensuration",
 "defaultMosaicMethod": "Center",
 "allowedMosaicMethods": "",
 "sortField": "",
 "sortValue": null,
 "sortAscending": true,
 "mosaicOperator": "First",
 "defaultCompressionQuality": 75,
 "defaultResamplingMethod": "Bilinear",
 "maxImageHeight": 4100,
 "maxImageWidth": 15000,
 "allowRasterFunction": true,
 "rasterFunctionInfos": [
  {
   "name": "None",
   "description": "",
   "help": ""
  }
 ],
 "rasterTypeInfos": [
  {
   "name": "Raster Dataset",
   "description": "Supports all ArcGIS Raster Datasets",
   "help": ""
  }
 ],
 "mensurationCapabilities": "Basic",
 "hasHistograms": true,
 "hasColormap": false,
 "hasRasterAttributeTable": false,
 "minScale": 0,
 "maxScale": 0,
 "exportTilesAllowed": false,
 "supportsStatistics": false,
 "supportsAdvancedQueries": false,
 "editFieldsInfo": null,
 "ownershipBasedAccessControlForRasters": null,
 "allowComputeTiePoints": false,
 "useStandardizedQueries": true,
 "advancedQueryCapabilities": {
  "useStandardizedQueries": true,
  "supportsStatistics": false,
  "supportsOrderBy": false,
  "supportsDistinct": false,
  "supportsPagination": false
 },
 "spatialReference": {
  "wkid": 4674,
  "latestWkid": 4674
 }
}
