View In:
ArcGIS JavaScript
ArcGIS Online Map Viewer
ArcGIS Earth
Service Description: Interferometria
Name: maceio/Krig_Esri_1
Description: Interferometria
Single Fused Map Cache: false
Extent:
XMin: 196300.08730506897
YMin: 8928978.567445755
XMax: 201280.08730506897
YMax: 8936469.567445755
Spatial Reference: 31985
(31985)
Initial Extent:
XMin: 196300.08730506897
YMin: 8928978.567445755
XMax: 201280.08730506897
YMax: 8936469.567445755
Spatial Reference: 31985
(31985)
Full Extent:
XMin: 196300.08730506897
YMin: 8928978.567445755
XMax: 201280.08730506897
YMax: 8936469.567445755
Spatial Reference: 31985
(31985)
Pixel Size X: 3.0
Pixel Size Y: 3.0
Band Count: 3
Pixel Type: U8
RasterFunction Infos: {"rasterFunctionInfos": [{
"name": "None",
"description": "",
"help": ""
}]}
Mensuration Capabilities: Basic
Inspection Capabilities:
Has Histograms: true
Has Colormap: false
Has Multi Dimensions : false
Rendering Rule:
Min Scale: 0
Max Scale: 0
Copyright Text: Serviço Geológico do Brasil - SGB - CPRM
Service Data Type: esriImageServiceDataTypeThematic
Min Values: 146, 0, 0
Max Values: 254, 249, 242
Mean Values: 241.84519006323, 237.79688566948, 223.91609766382
Standard Deviation Values: 17.407952685443, 21.805523707039, 60.015656475893
Object ID Field:
Fields:
None
Default Mosaic Method: Center
Allowed Mosaic Methods:
SortField:
SortValue: null
Mosaic Operator: First
Default Compression Quality: 75
Default Resampling Method: Bilinear
Max Record Count: null
Max Image Height: 4100
Max Image Width: 15000
Max Download Image Count: null
Max Mosaic Image Count: null
Allow Raster Function: true
Allow Copy: true
Allow Analysis: true
Allow Compute TiePoints: false
Supports Statistics: false
Supports Advanced Queries: false
Use StandardizedQueries: true
Raster Type Infos:
Name: Raster Dataset
Description: Supports all ArcGIS Raster Datasets
Help:
Has Raster Attribute Table: false
Edit Fields Info: null
Ownership Based AccessControl For Rasters: null
Child Resources:
Info
Histograms
Statistics
Key Properties
Legend
Raster Function Infos
Supported Operations:
Export Image
Identify
Measure
Compute Histograms
Compute Statistics Histograms
Get Samples
Compute Class Statistics
Query Boundary
Compute Pixel Location
Compute Angles
Validate
Project