{
 "currentVersion": 11.3,
 "serviceDescription": "Interferometria",
 "name": "maceio/Krig_Esri_1",
 "description": "Interferometria",
 "extent": {
  "xmin": 196300.08730506897,
  "ymin": 8928978.567445755,
  "xmax": 201280.08730506897,
  "ymax": 8936469.567445755,
  "spatialReference": {
   "wkid": 31985,
   "latestWkid": 31985
  }
 },
 "initialExtent": {
  "xmin": 196300.08730506897,
  "ymin": 8928978.567445755,
  "xmax": 201280.08730506897,
  "ymax": 8936469.567445755,
  "spatialReference": {
   "wkid": 31985,
   "latestWkid": 31985
  }
 },
 "fullExtent": {
  "xmin": 196300.08730506897,
  "ymin": 8928978.567445755,
  "xmax": 201280.08730506897,
  "ymax": 8936469.567445755,
  "spatialReference": {
   "wkid": 31985,
   "latestWkid": 31985
  }
 },
 "sortableFields": "",
 "bandCount": 3,
 "pixelType": "U8",
 "minValues": [
  146,
  0,
  0
 ],
 "maxValues": [
  254,
  249,
  242
 ],
 "meanValues": [
  241.84519006323,
  237.79688566948,
  223.91609766382
 ],
 "stdvValues": [
  17.407952685443,
  21.805523707039,
  60.015656475893
 ],
 "hasMultidimensions": false,
 "pixelSizeX": 3,
 "pixelSizeY": 3,
 "meanPixelSize": 3,
 "datasetFormat": "TIFF",
 "uncompressedSize": 12435060,
 "blockWidth": 128,
 "blockHeight": 128,
 "compressionType": "None",
 "bandNames": [
  "Band_1",
  "Band_2",
  "Band_3"
 ],
 "allowCopy": true,
 "allowAnalysis": true,
 "itemAccess": false,
 "inspectionCapabilities": "",
 "noDataValue": 255,
 "noDataValues": [
  255,
  255,
  255
 ],
 "minPixelSize": 0,
 "maxPixelSize": 0,
 "copyrightText": "Serviço Geológico do Brasil - SGB - CPRM",
 "serviceDataType": "esriImageServiceDataTypeThematic",
 "serviceSourceType": "esriImageServiceSourceTypeDataset",
 "objectIdField": "",
 "fields": [],
 "capabilities": "Image,Metadata,Mensuration",
 "defaultMosaicMethod": "Center",
 "allowedMosaicMethods": "",
 "sortField": "",
 "sortValue": null,
 "sortAscending": true,
 "mosaicOperator": "First",
 "defaultCompressionQuality": 75,
 "defaultResamplingMethod": "Bilinear",
 "maxImageHeight": 4100,
 "maxImageWidth": 15000,
 "allowRasterFunction": true,
 "rasterFunctionInfos": [
  {
   "name": "None",
   "description": "",
   "help": ""
  }
 ],
 "rasterTypeInfos": [
  {
   "name": "Raster Dataset",
   "description": "Supports all ArcGIS Raster Datasets",
   "help": ""
  }
 ],
 "mensurationCapabilities": "Basic",
 "hasHistograms": true,
 "hasColormap": false,
 "hasRasterAttributeTable": false,
 "minScale": 0,
 "maxScale": 0,
 "exportTilesAllowed": false,
 "supportsStatistics": false,
 "supportsAdvancedQueries": false,
 "editFieldsInfo": null,
 "ownershipBasedAccessControlForRasters": null,
 "allowComputeTiePoints": false,
 "useStandardizedQueries": true,
 "advancedQueryCapabilities": {
  "useStandardizedQueries": true,
  "supportsStatistics": false,
  "supportsOrderBy": false,
  "supportsDistinct": false,
  "supportsPagination": false
 },
 "spatialReference": {
  "wkid": 31985,
  "latestWkid": 31985
 }
}
