View In:
ArcGIS JavaScript
ArcGIS Online Map Viewer
ArcGIS Earth
Service Description: pronasolos/usle_2018
Name: pronasolos/usle_2018
Description:
Single Fused Map Cache: false
Extent:
XMin: -73.99051482058458
YMin: -33.75125276692702
XMax: -28.847539800512976
YMax: 5.272033984307356
Spatial Reference: 4326
(4326)
Initial Extent:
XMin: -73.99051482058458
YMin: -33.75125276692702
XMax: -28.847539800512976
YMax: 5.272033984307356
Spatial Reference: 4326
(4326)
Full Extent:
XMin: -73.99051482058458
YMin: -33.75125276692702
XMax: -28.847539800512976
YMax: 5.272033984307356
Spatial Reference: 4326
(4326)
Pixel Size X: 2.6948294811912583E-4
Pixel Size Y: 2.6948294811912583E-4
Band Count: 1
Pixel Type: S8
RasterFunction Infos: {"rasterFunctionInfos": [{
"name": "None",
"description": "",
"help": ""
}]}
Mensuration Capabilities: Basic
Inspection Capabilities:
Has Histograms: true
Has Colormap: false
Has Multi Dimensions : false
Rendering Rule:
Min Scale: 0
Max Scale: 0
Copyright Text:
Service Data Type: esriImageServiceDataTypeGeneric
Min Values: 0
Max Values: 5
Mean Values: 0.19493860633555
Standard Deviation Values: 0.6293908910771
Object ID Field:
Fields:
None
Default Mosaic Method: Center
Allowed Mosaic Methods:
SortField:
SortValue: null
Mosaic Operator: First
Default Compression Quality: 75
Default Resampling Method: Bilinear
Max Record Count: null
Max Image Height: 4100
Max Image Width: 15000
Max Download Image Count: null
Max Mosaic Image Count: null
Allow Raster Function: true
Allow Copy: true
Allow Analysis: true
Allow Compute TiePoints: false
Supports Statistics: false
Supports Advanced Queries: false
Use StandardizedQueries: true
Raster Type Infos:
Name: Raster Dataset
Description: Supports all ArcGIS Raster Datasets
Help:
Has Raster Attribute Table: false
Edit Fields Info: null
Ownership Based AccessControl For Rasters: null
Child Resources:
Info
Histograms
Statistics
Key Properties
Legend
Raster Function Infos
Supported Operations:
Export Image
Identify
Measure
Compute Histograms
Compute Statistics Histograms
Get Samples
Compute Class Statistics
Query Boundary
Compute Pixel Location
Compute Angles
Validate
Project