View In:
ArcGIS JavaScript
ArcGIS Online Map Viewer
ArcGIS Earth
Service Description: pronasolos/erodibilidade
Name: pronasolos/erodibilidade
Description:
Single Fused Map Cache: false
Extent:
XMin: -73.98318215899997
YMin: -33.75117799399993
XMax: -28.847904020139964
YMax: 5.269655651500074
Spatial Reference: 4674
(4674)
Initial Extent:
XMin: -73.98318215899997
YMin: -33.75117799399993
XMax: -28.847904020139964
YMax: 5.269655651500074
Spatial Reference: 4674
(4674)
Full Extent:
XMin: -73.98318215899997
YMin: -33.75117799399993
XMax: -28.847904020139964
YMax: 5.269655651500074
Spatial Reference: 4674
(4674)
Pixel Size X: 2.7777778E-4
Pixel Size Y: 2.7777778E-4
Band Count: 1
Pixel Type: U4
RasterFunction Infos: {"rasterFunctionInfos": [{
"name": "None",
"description": "",
"help": ""
}]}
Mensuration Capabilities: Basic
Inspection Capabilities:
Has Histograms: true
Has Colormap: false
Has Multi Dimensions : false
Rendering Rule:
Min Scale: 0
Max Scale: 0
Copyright Text:
Service Data Type: esriImageServiceDataTypeThematic
Min Values: 1
Max Values: 10
Mean Values: 5.1219524816339
Standard Deviation Values: 1.8064721124625
Object ID Field:
Fields:
None
Default Mosaic Method: Center
Allowed Mosaic Methods:
SortField:
SortValue: null
Mosaic Operator: First
Default Compression Quality: 75
Default Resampling Method: Bilinear
Max Record Count: null
Max Image Height: 4100
Max Image Width: 15000
Max Download Image Count: null
Max Mosaic Image Count: null
Allow Raster Function: true
Allow Copy: true
Allow Analysis: true
Allow Compute TiePoints: false
Supports Statistics: false
Supports Advanced Queries: false
Use StandardizedQueries: true
Raster Type Infos:
Name: Raster Dataset
Description: Supports all ArcGIS Raster Datasets
Help:
Has Raster Attribute Table: true
Edit Fields Info: null
Ownership Based AccessControl For Rasters: null
Child Resources:
Info
Raster Attribute Table
Histograms
Statistics
Key Properties
Legend
Raster Function Infos
Supported Operations:
Export Image
Identify
Measure
Compute Histograms
Compute Statistics Histograms
Get Samples
Compute Class Statistics
Query Boundary
Compute Pixel Location
Compute Angles
Validate
Project