View In:
ArcGIS JavaScript
ArcGIS Online Map Viewer
ArcGIS Earth
Service Description: gestao_territorial/suscetibilidade_inundacao
Name: gestao_territorial/suscetibilidade_inundacao
Description:
Single Fused Map Cache: false
Extent:
XMin: -68.14591471699993
YMin: -32.016723666999894
XMax: -34.819314716999926
YMax: 3.0915763330001056
Spatial Reference: 4674
(4674)
Initial Extent:
XMin: -68.14591471699993
YMin: -32.016723666999894
XMax: -34.819314716999926
YMax: 3.0915763330001056
Spatial Reference: 4674
(4674)
Full Extent:
XMin: -68.14591471699993
YMin: -32.016723666999894
XMax: -34.819314716999926
YMax: 3.0915763330001056
Spatial Reference: 4674
(4674)
Pixel Size X: 9.999999999999999E-5
Pixel Size Y: 1.0E-4
Band Count: 1
Pixel Type: U4
RasterFunction Infos: {"rasterFunctionInfos": [{
"name": "None",
"description": "",
"help": ""
}]}
Mensuration Capabilities: Basic
Inspection Capabilities:
Has Histograms: true
Has Colormap: false
Has Multi Dimensions : false
Rendering Rule:
Min Scale: 0
Max Scale: 0
Copyright Text:
Service Data Type: esriImageServiceDataTypeThematic
Min Values: 1
Max Values: 3
Mean Values: 1.9367024224056502
Standard Deviation Values: 0.544006168564894
Object ID Field:
Fields:
None
Default Mosaic Method: Center
Allowed Mosaic Methods:
SortField:
SortValue: null
Mosaic Operator: First
Default Compression Quality: 75
Default Resampling Method: Bilinear
Max Record Count: null
Max Image Height: 4100
Max Image Width: 15000
Max Download Image Count: null
Max Mosaic Image Count: null
Allow Raster Function: true
Allow Copy: true
Allow Analysis: true
Allow Compute TiePoints: false
Supports Statistics: false
Supports Advanced Queries: false
Use StandardizedQueries: true
Raster Type Infos:
Name: Raster Dataset
Description: Supports all ArcGIS Raster Datasets
Help:
Has Raster Attribute Table: true
Edit Fields Info: null
Ownership Based AccessControl For Rasters: null
Child Resources:
Info
Raster Attribute Table
Histograms
Statistics
Key Properties
Legend
Raster Function Infos
Supported Operations:
Export Image
Identify
Measure
Compute Histograms
Compute Statistics Histograms
Get Samples
Compute Class Statistics
Query Boundary
Compute Pixel Location
Compute Angles
Validate
Project