View In:
ArcGIS JavaScript
ArcGIS Online Map Viewer
ArcGIS Earth
Service Description: Topo do embasamento
Name: geomar/topo_embasm
Description: Topo do embasamento
Single Fused Map Cache: false
Extent:
XMin: -54.96918739107333
YMin: -39.97001223785334
XMax: -10.064643747288002
YMax: 9.947393600095552
Spatial Reference: 4326
(4326)
Initial Extent:
XMin: -54.96918739107333
YMin: -39.97001223785334
XMax: -10.064643747288002
YMax: 9.947393600095552
Spatial Reference: 4326
(4326)
Full Extent:
XMin: -54.96918739107333
YMin: -39.97001223785334
XMax: -10.064643747288002
YMax: 9.947393600095552
Spatial Reference: 4326
(4326)
Pixel Size X: 0.014081073579111111
Pixel Size Y: 0.014081073579111111
Band Count: 3
Pixel Type: U8
RasterFunction Infos: {"rasterFunctionInfos": [{
"name": "None",
"description": "",
"help": ""
}]}
Mensuration Capabilities: Basic
Inspection Capabilities:
Has Histograms: true
Has Colormap: false
Has Multi Dimensions : false
Rendering Rule:
Min Scale: 0
Max Scale: 0
Copyright Text: Serviço Geológico do Brasil - SGB/CPRM
Service Data Type: esriImageServiceDataTypeRGB
Min Values: 0, 0, 0
Max Values: 255, 255, 255
Mean Values: 140.57131403303228, 145.06933875747953, 98.49820207952142
Standard Deviation Values: 103.75500922735222, 95.16464222700655, 110.5960986291845
Object ID Field:
Fields:
None
Default Mosaic Method: Center
Allowed Mosaic Methods:
SortField:
SortValue: null
Mosaic Operator: First
Default Compression Quality: 75
Default Resampling Method: Bilinear
Max Record Count: null
Max Image Height: 4100
Max Image Width: 15000
Max Download Image Count: null
Max Mosaic Image Count: null
Allow Raster Function: true
Allow Copy: true
Allow Analysis: true
Allow Compute TiePoints: false
Supports Statistics: false
Supports Advanced Queries: false
Use StandardizedQueries: true
Raster Type Infos:
Name: Raster Dataset
Description: Supports all ArcGIS Raster Datasets
Help:
Has Raster Attribute Table: false
Edit Fields Info: null
Ownership Based AccessControl For Rasters: null
Child Resources:
Info
Histograms
Statistics
Key Properties
Legend
Raster Function Infos
Supported Operations:
Export Image
Identify
Measure
Compute Histograms
Compute Statistics Histograms
Get Samples
Compute Class Statistics
Query Boundary
Compute Pixel Location
Compute Angles
Validate
Project