View In:
ArcGIS JavaScript
ArcGIS Online Map Viewer
ArcGIS Earth
Service Description: Relevo do fundo oceânico
Name: geomar/relevo_etopo1
Description: Relevo do fundo oceânico
Single Fused Map Cache: false
Extent:
XMin: -55.00944444444444
YMin: -40.11999999999994
XMax: -6.989333333333363
YMax: 10.129666666666687
Spatial Reference: 4326
(4326)
Initial Extent:
XMin: -55.00944444444444
YMin: -40.11999999999994
XMax: -6.989333333333363
YMax: 10.129666666666687
Spatial Reference: 4326
(4326)
Full Extent:
XMin: -55.00944444444444
YMin: -40.11999999999994
XMax: -6.989333333333363
YMax: 10.129666666666687
Spatial Reference: 4326
(4326)
Pixel Size X: 0.014111111111111102
Pixel Size Y: 0.0141111111111111
Band Count: 3
Pixel Type: U8
RasterFunction Infos: {"rasterFunctionInfos": [{
"name": "None",
"description": "",
"help": ""
}]}
Mensuration Capabilities: Basic
Inspection Capabilities:
Has Histograms: true
Has Colormap: false
Has Multi Dimensions : false
Rendering Rule:
Min Scale: 0
Max Scale: 0
Copyright Text: Serviço Geológico do Brasil - SGB/CPRM
Service Data Type: esriImageServiceDataTypeRGB
Min Values: 0, 0, 0
Max Values: 255, 255, 255
Mean Values: 97.917651909134, 141.26604290464, 151.04154279188
Standard Deviation Values: 82.610179314169, 48.226983372114, 67.254605496152
Object ID Field:
Fields:
None
Default Mosaic Method: Center
Allowed Mosaic Methods:
SortField:
SortValue: null
Mosaic Operator: First
Default Compression Quality: 75
Default Resampling Method: Bilinear
Max Record Count: null
Max Image Height: 4100
Max Image Width: 15000
Max Download Image Count: null
Max Mosaic Image Count: null
Allow Raster Function: true
Allow Copy: true
Allow Analysis: true
Allow Compute TiePoints: false
Supports Statistics: false
Supports Advanced Queries: false
Use StandardizedQueries: true
Raster Type Infos:
Name: Raster Dataset
Description: Supports all ArcGIS Raster Datasets
Help:
Has Raster Attribute Table: false
Edit Fields Info: null
Ownership Based AccessControl For Rasters: null
Child Resources:
Info
Histograms
Statistics
Key Properties
Legend
Raster Function Infos
Supported Operations:
Export Image
Identify
Measure
Compute Histograms
Compute Statistics Histograms
Get Samples
Compute Class Statistics
Query Boundary
Compute Pixel Location
Compute Angles
Validate
Project