View In:
ArcGIS JavaScript
ArcGIS Online Map Viewer
ArcGIS Earth
Service Description: xxx
Name: geomar/espes_sedimentos
Description: xxx
Single Fused Map Cache: false
Extent:
XMin: -55.003124827166666
YMin: -39.98019479086667
XMax: -9.995405785408877
YMax: 10.0487552063489
Spatial Reference: 4326
(4326)
Initial Extent:
XMin: -55.003124827166666
YMin: -39.98019479086667
XMax: -9.995405785408877
YMax: 10.0487552063489
Spatial Reference: 4326
(4326)
Full Extent:
XMin: -55.003124827166666
YMin: -39.98019479086667
XMax: -9.995405785408877
YMax: 10.0487552063489
Spatial Reference: 4326
(4326)
Pixel Size X: 0.014104581335555559
Pixel Size Y: 0.014104581335555559
Band Count: 3
Pixel Type: U8
RasterFunction Infos: {"rasterFunctionInfos": [{
"name": "None",
"description": "",
"help": ""
}]}
Mensuration Capabilities: Basic
Inspection Capabilities:
Has Histograms: true
Has Colormap: false
Has Multi Dimensions : false
Rendering Rule:
Min Scale: 0
Max Scale: 0
Copyright Text: Serviço Geológico do Brasil - SGB - CPRM
Service Data Type: esriImageServiceDataTypeRGB
Min Values: 0, 0, 0
Max Values: 255, 255, 255
Mean Values: 140.69974007987116, 152.0845975125452, 99.789686191879
Standard Deviation Values: 102.77997935475689, 96.46180582542152, 111.75732801549228
Object ID Field:
Fields:
None
Default Mosaic Method: Center
Allowed Mosaic Methods:
SortField:
SortValue: null
Mosaic Operator: First
Default Compression Quality: 75
Default Resampling Method: Bilinear
Max Record Count: null
Max Image Height: 4100
Max Image Width: 15000
Max Download Image Count: null
Max Mosaic Image Count: null
Allow Raster Function: true
Allow Copy: true
Allow Analysis: true
Allow Compute TiePoints: false
Supports Statistics: false
Supports Advanced Queries: false
Use StandardizedQueries: true
Raster Type Infos:
Name: Raster Dataset
Description: Supports all ArcGIS Raster Datasets
Help:
Has Raster Attribute Table: false
Edit Fields Info: null
Ownership Based AccessControl For Rasters: null
Child Resources:
Info
Histograms
Statistics
Key Properties
Legend
Raster Function Infos
Supported Operations:
Export Image
Identify
Measure
Compute Histograms
Compute Statistics Histograms
Get Samples
Compute Class Statistics
Query Boundary
Compute Pixel Location
Compute Angles
Validate
Project