View In:
ArcGIS JavaScript
ArcGIS Online Map Viewer
ArcGIS Earth
Service Description: Imagem geofĂsica Brasil THK
Name: geofisica_thk
Description: Imagem geofĂsica Brasil THK
Single Fused Map Cache: false
Extent:
XMin: -69.53128499999998
YMin: -34.818225
XMax: -30.351284999999983
YMax: 5.285775000000004
Spatial Reference: 4674
(4674)
Initial Extent:
XMin: -69.53128499999998
YMin: -34.818225
XMax: -30.351284999999983
YMax: 5.285775000000004
Spatial Reference: 4674
(4674)
Full Extent:
XMin: -69.53128499999998
YMin: -34.818225
XMax: -30.351284999999983
YMax: 5.285775000000004
Spatial Reference: 4674
(4674)
Pixel Size X: 0.002
Pixel Size Y: 0.002
Band Count: 3
Pixel Type: U8
RasterFunction Infos: {"rasterFunctionInfos": [{
"name": "None",
"description": "",
"help": ""
}]}
Mensuration Capabilities: Basic
Inspection Capabilities:
Has Histograms: true
Has Colormap: false
Has Multi Dimensions : false
Rendering Rule:
Min Scale: 0
Max Scale: 0
Copyright Text: CPRM
Service Data Type: esriImageServiceDataTypeRGB
Min Values: 0, 0, 0
Max Values: 255, 255, 255
Mean Values: 143.09647237274342, 144.22666118294234, 79.0034298516779
Standard Deviation Values: 123.21321224184288, 105.15696852984517, 112.04846509355536
Object ID Field:
Fields:
None
Default Mosaic Method: Center
Allowed Mosaic Methods:
SortField:
SortValue: null
Mosaic Operator: First
Default Compression Quality: 75
Default Resampling Method: Bilinear
Max Record Count: null
Max Image Height: 4100
Max Image Width: 15000
Max Download Image Count: null
Max Mosaic Image Count: null
Allow Raster Function: true
Allow Copy: true
Allow Analysis: true
Allow Compute TiePoints: false
Supports Statistics: false
Supports Advanced Queries: false
Use StandardizedQueries: true
Raster Type Infos:
Name: Raster Dataset
Description: Supports all ArcGIS Raster Datasets
Help:
Has Raster Attribute Table: false
Edit Fields Info: null
Ownership Based AccessControl For Rasters: null
Child Resources:
Info
Histograms
Statistics
Key Properties
Legend
Raster Function Infos
Supported Operations:
Export Image
Identify
Measure
Compute Histograms
Compute Statistics Histograms
Get Samples
Compute Class Statistics
Query Boundary
Compute Pixel Location
Compute Angles
Validate
Project