View In:
ArcGIS JavaScript
ArcGIS Online Map Viewer
ArcGIS Earth
Service Description: Imagem geofĂsica MAG.
Name: geofisica_mag
Description: Imagem geofĂsica MAG.
Single Fused Map Cache: false
Extent:
XMin: -70.27619499999997
YMin: -33.324005
XMax: -30.952194999999975
YMax: 5.051995000000001
Spatial Reference: 4674
(4674)
Initial Extent:
XMin: -70.27619499999997
YMin: -33.324005
XMax: -30.952194999999975
YMax: 5.051995000000001
Spatial Reference: 4674
(4674)
Full Extent:
XMin: -70.27619499999997
YMin: -33.324005
XMax: -30.952194999999975
YMax: 5.051995000000001
Spatial Reference: 4674
(4674)
Pixel Size X: 0.002
Pixel Size Y: 0.002
Band Count: 3
Pixel Type: U8
RasterFunction Infos: {"rasterFunctionInfos": [{
"name": "None",
"description": "",
"help": ""
}]}
Mensuration Capabilities: Basic
Inspection Capabilities:
Has Histograms: true
Has Colormap: false
Has Multi Dimensions : false
Rendering Rule:
Min Scale: 0
Max Scale: 0
Copyright Text: SGB - Serviço Geológico do Brasil
Service Data Type: esriImageServiceDataTypeRGB
Min Values: 0, 0, 0
Max Values: 255, 255, 255
Mean Values: 143.8910908821686, 147.83032950849105, 78.33499871915109
Standard Deviation Values: 122.72884717923986, 104.22951547271477, 111.6531721169389
Object ID Field:
Fields:
None
Default Mosaic Method: Center
Allowed Mosaic Methods:
SortField:
SortValue: null
Mosaic Operator: First
Default Compression Quality: 75
Default Resampling Method: Bilinear
Max Record Count: null
Max Image Height: 4100
Max Image Width: 15000
Max Download Image Count: null
Max Mosaic Image Count: null
Allow Raster Function: true
Allow Copy: true
Allow Analysis: true
Allow Compute TiePoints: false
Supports Statistics: false
Supports Advanced Queries: false
Use StandardizedQueries: true
Raster Type Infos:
Name: Raster Dataset
Description: Supports all ArcGIS Raster Datasets
Help:
Has Raster Attribute Table: false
Edit Fields Info: null
Ownership Based AccessControl For Rasters: null
Child Resources:
Info
Histograms
Statistics
Key Properties
Legend
Raster Function Infos
Supported Operations:
Export Image
Identify
Measure
Compute Histograms
Compute Statistics Histograms
Get Samples
Compute Class Statistics
Query Boundary
Compute Pixel Location
Compute Angles
Validate
Project