View In:
ArcGIS JavaScript
ArcGIS Online Map Viewer
ArcGIS Earth
Service Description: GeofĂsica Anomalia de Bouguer
Name: geofisica_anomalia_bouguer_brasil
Description: GeofĂsica Anomalia de Bouguer
Single Fused Map Cache: false
Extent:
XMin: -73.9
YMin: -33.69999999999992
XMax: -34.80092333356955
YMax: 5.195876614461213
Spatial Reference: 4326
(4326)
Initial Extent:
XMin: -73.9
YMin: -33.69999999999992
XMax: -34.80092333356955
YMax: 5.195876614461213
Spatial Reference: 4326
(4326)
Full Extent:
XMin: -73.9
YMin: -33.69999999999992
XMax: -34.80092333356955
YMax: 5.195876614461213
Spatial Reference: 4326
(4326)
Pixel Size X: 0.0169333376641102
Pixel Size Y: 0.0169333376641102
Band Count: 3
Pixel Type: U8
RasterFunction Infos: {"rasterFunctionInfos": [{
"name": "None",
"description": "",
"help": ""
}]}
Mensuration Capabilities: Basic
Inspection Capabilities:
Has Histograms: true
Has Colormap: false
Has Multi Dimensions : false
Rendering Rule:
Min Scale: 0
Max Scale: 0
Copyright Text: SGB - Serviço Geológico do Brasil
Service Data Type: esriImageServiceDataTypeRGB
Min Values: 0, 0, 0
Max Values: 255, 255, 255
Mean Values: 133.2498299413899, 143.90466694177832, 76.50841199007174
Standard Deviation Values: 105.76784653043335, 88.54503277087326, 96.47015053097806
Object ID Field:
Fields:
None
Default Mosaic Method: Center
Allowed Mosaic Methods:
SortField:
SortValue: null
Mosaic Operator: First
Default Compression Quality: 75
Default Resampling Method: Bilinear
Max Record Count: null
Max Image Height: 4100
Max Image Width: 15000
Max Download Image Count: null
Max Mosaic Image Count: null
Allow Raster Function: true
Allow Copy: true
Allow Analysis: true
Allow Compute TiePoints: false
Supports Statistics: false
Supports Advanced Queries: false
Use StandardizedQueries: true
Raster Type Infos:
Name: Raster Dataset
Description: Supports all ArcGIS Raster Datasets
Help:
Has Raster Attribute Table: false
Edit Fields Info: null
Ownership Based AccessControl For Rasters: null
Child Resources:
Info
Histograms
Statistics
Key Properties
Legend
Raster Function Infos
Supported Operations:
Export Image
Identify
Measure
Compute Histograms
Compute Statistics Histograms
Get Samples
Compute Class Statistics
Query Boundary
Compute Pixel Location
Compute Angles
Validate
Project