View In:
ArcGIS JavaScript
ArcGIS Online Map Viewer
ArcGIS Earth
Service Description: GeofĂsica primeira derivada vertical.
Name: geofisica_1dv
Description: GeofĂsica primeira derivada vertical.
Single Fused Map Cache: false
Extent:
XMin: -70.27619499999997
YMin: -33.324005
XMax: -30.95219466755882
YMax: 5.051995324426856
Spatial Reference: 4674
(4674)
Initial Extent:
XMin: -70.27619499999997
YMin: -33.324005
XMax: -30.95219466755882
YMax: 5.051995324426856
Spatial Reference: 4674
(4674)
Full Extent:
XMin: -70.27619499999997
YMin: -33.324005
XMax: -30.95219466755882
YMax: 5.051995324426856
Spatial Reference: 4674
(4674)
Pixel Size X: 0.0020000000169077994
Pixel Size Y: 0.0020000000169077994
Band Count: 3
Pixel Type: U8
RasterFunction Infos: {"rasterFunctionInfos": [{
"name": "None",
"description": "",
"help": ""
}]}
Mensuration Capabilities: Basic
Inspection Capabilities:
Has Histograms: true
Has Colormap: false
Has Multi Dimensions : false
Rendering Rule:
Min Scale: 0
Max Scale: 0
Resampling: false
Copyright Text: SGB - Serviço Geológico do Brasil
Service Data Type: esriImageServiceDataTypeRGB
Min Values: 0, 0, 0
Max Values: 255, 255, 255
Mean Values: 94.16306312317585, 94.16306312317585, 94.16306312317585
Standard Deviation Values: 79.67228235396598, 79.67228235396598, 79.67228235396598
Object ID Field:
Fields:
None
Default Mosaic Method: Center
Allowed Mosaic Methods:
SortField:
SortValue: null
Mosaic Operator: First
Default Compression Quality: 75
Default Resampling Method: Bilinear
Max Record Count: null
Max Image Height: 4100
Max Image Width: 15000
Max Download Image Count: null
Max Mosaic Image Count: null
Allow Raster Function: true
Allow Copy: true
Allow Analysis: true
Allow Compute TiePoints: false
Supports Statistics: false
Supports Advanced Queries: false
Use StandardizedQueries: true
Raster Type Infos:
Name: Raster Dataset
Description: Supports all ArcGIS Raster Datasets
Help:
Has Raster Attribute Table: false
Edit Fields Info: null
Ownership Based AccessControl For Rasters: null
Child Resources:
Info
Histograms
Statistics
Key Properties
Legend
Raster Function Infos
Supported Operations:
Export Image
Identify
Measure
Compute Histograms
Compute Statistics Histograms
Get Samples
Compute Class Statistics
Query Boundary
Compute Pixel Location
Compute Angles
Validate
Project