{
 "currentVersion": 11.3,
 "cimVersion": "3.3.0",
 "serviceDescription": "Este serviço contém todos os afloramentos contidos atualmente no banco de dados Geobank.",
 "mapName": "Afloramentos",
 "description": "Este serviço contém todos os afloramentos contidos atualmente no banco de dados Geobank.",
 "copyrightText": "Serviço Geológico do Brasil - CPRM",
 "supportsDynamicLayers": true,
 "layers": [
  {
   "id": 0,
   "name": "Afloramentos geológicos",
   "parentLayerId": -1,
   "defaultVisibility": true,
   "subLayerIds": null,
   "minScale": 0,
   "maxScale": 0,
   "type": "Feature Layer",
   "geometryType": "esriGeometryPoint",
   "supportsDynamicLegends": true
  }
 ],
 "tables": [
  {
   "id": 1,
   "name": "Rochas",
   "type": "Table"
  },
  {
   "id": 2,
   "name": "Fotos",
   "type": "Table"
  },
  {
   "id": 3,
   "name": "Estruturas",
   "type": "Table"
  }
 ],
 "spatialReference": {
  "wkid": 102100,
  "latestWkid": 3857,
  "xyTolerance": 0.001,
  "zTolerance": 0.001,
  "mTolerance": 0.001,
  "falseX": -20037700,
  "falseY": -30241100,
  "xyUnits": 10000,
  "falseZ": -100000,
  "zUnits": 10000,
  "falseM": -100000,
  "mUnits": 10000
 },
 "singleFusedMapCache": true,
 "tileInfo": {
  "rows": 256,
  "cols": 256,
  "dpi": 96,
  "format": "PNG",
  "compressionQuality": 0,
  "origin": {
   "x": -2.0037508342787E7,
   "y": 2.0037508342787E7
  },
  "spatialReference": {
   "wkid": 102100,
   "latestWkid": 3857,
   "xyTolerance": 0.001,
   "zTolerance": 0.001,
   "mTolerance": 0.001,
   "falseX": -20037700,
   "falseY": -30241100,
   "xyUnits": 1.4892314192838538E8,
   "falseZ": -100000,
   "zUnits": 10000,
   "falseM": -100000,
   "mUnits": 10000
  },
  "lods": [
   {
    "level": 0,
    "resolution": 9783.93962049996,
    "scale": 3.6978595474472E7
   },
   {
    "level": 1,
    "resolution": 4891.96981024998,
    "scale": 1.8489297737236E7
   },
   {
    "level": 2,
    "resolution": 2445.98490512499,
    "scale": 9244648.868618
   },
   {
    "level": 3,
    "resolution": 1222.992452562495,
    "scale": 4622324.434309
   },
   {
    "level": 4,
    "resolution": 611.4962262813797,
    "scale": 2311162.217155
   },
   {
    "level": 5,
    "resolution": 305.74811314055756,
    "scale": 1155581.108577
   },
   {
    "level": 6,
    "resolution": 152.87405657041106,
    "scale": 577790.554289
   },
   {
    "level": 7,
    "resolution": 76.43702828507324,
    "scale": 288895.277144
   },
   {
    "level": 8,
    "resolution": 38.21851414253662,
    "scale": 144447.638572
   },
   {
    "level": 9,
    "resolution": 19.10925707126831,
    "scale": 72223.819286
   },
   {
    "level": 10,
    "resolution": 9.554628535634155,
    "scale": 36111.909643
   },
   {
    "level": 11,
    "resolution": 4.77731426794937,
    "scale": 18055.954822
   },
   {
    "level": 12,
    "resolution": 2.388657133974685,
    "scale": 9027.977411
   }
  ]
 },
 "storageInfo": {
  "storageFormat": "esriMapCacheStorageModeCompactV2",
  "packetSize": 128
 },
 "initialExtent": {
  "xmin": -1.0603847846450992E7,
  "ymin": -4166388.5431094025,
  "xmax": -2103357.6584262187,
  "ymax": 940225.6367597547,
  "spatialReference": {
   "cs": "pcs",
   "wkid": 102100
  }
 },
 "fullExtent": {
  "xmin": -7792364.355529149,
  "ymin": -3895303.9633938936,
  "xmax": -3784862.6869713017,
  "ymax": 669141.0570442467,
  "spatialReference": {
   "cs": "pcs",
   "wkid": 102100
  }
 },
 "datesInUnknownTimezone": false,
 "minScale": 3.6978595474472E7,
 "maxScale": 9027.977411,
 "maxLOD": 12,
 "units": "esriMeters",
 "supportedImageFormatTypes": "PNG32,PNG24,PNG,JPG,DIB,TIFF,EMF,PS,PDF,GIF,SVG,SVGZ,BMP",
 "documentInfo": {
  "Title": "Untitled.aprx",
  "Author": "",
  "Comments": "Este serviço contém todos os afloramentos contidos atualmente no banco de dados Geobank.",
  "Subject": "Serviço de afloramentos geológicos da CPRM",
  "Category": "",
  "Version": "3.3.0",
  "AntialiasingMode": "Fast",
  "TextAntialiasingMode": "Force",
  "Keywords": "Afloramento,CPRM"
 },
 "supportsQueryDomains": true,
 "capabilities": "Map,Query,Data",
 "supportedQueryFormats": "JSON, geoJSON, PBF",
 "exportTilesAllowed": false,
 "referenceScale": 0.0,
 "datumTransformations": [
  {
   "geoTransforms": [
    {
     "wkid": 108001,
     "latestWkid": 1241,
     "transformForward": true,
     "name": "NAD_1927_To_NAD_1983_NADCON"
    }
   ]
  },
  {
   "geoTransforms": [
    {
     "wkid": 108001,
     "latestWkid": 1241,
     "transformForward": false,
     "name": "NAD_1927_To_NAD_1983_NADCON"
    }
   ]
  }
 ],
 "supportsDatumTransformation": true,
 "floorAwareMapProperties": {
  "defaultFloorFilterSettings": {
   "isEnabled": false
  }
 },
 "archivingInfo": {
  "supportsHistoricMoment": false
 },
 "supportsClipping": true,
 "supportsSpatialFilter": true,
 "supportsTimeRelation": true,
 "supportsQueryDataElements": true,
 "mapUnits": {
  "uwkid": 9001
 },
 "maxRecordCount": 300000,
 "maxImageHeight": 4096,
 "maxImageWidth": 4096,
 "supportedExtensions": "WFSServer, WMSServer",
 "resampling": false,
 "serviceItemId": "9bb7cbb0308d47239355cacd14d31eff"
}
