<?xml version="1.0" encoding="UTF-8" standalone="no"?>
<metadata xml:lang="pt">
<Esri>
<CreaDate>20171101</CreaDate>
<CreaTime>10591800</CreaTime>
<ArcGISFormat>1.0</ArcGISFormat>
<SyncOnce>FALSE</SyncOnce>
<DataProperties>
<itemProps>
<itemName Sync="TRUE">espes_sedimentos</itemName>
<imsContentType Sync="TRUE">002</imsContentType>
<nativeExtBox>
<westBL Sync="TRUE">-55.003125</westBL>
<eastBL Sync="TRUE">-9.995406</eastBL>
<southBL Sync="TRUE">-39.980195</southBL>
<northBL Sync="TRUE">10.048755</northBL>
<exTypeCode Sync="TRUE">1</exTypeCode>
</nativeExtBox>
</itemProps>
</DataProperties>
<SyncDate>20171101</SyncDate>
<SyncTime>10591800</SyncTime>
<ModDate>20171101</ModDate>
<ModTime>10591800</ModTime>
</Esri>
<dataIdInfo>
<envirDesc Sync="FALSE">Esri ArcGIS 10.2.2.3552</envirDesc>
<dataLang>
<languageCode Sync="TRUE" value="por">
</languageCode>
<countryCode Sync="TRUE" value="BRA">
</countryCode>
</dataLang>
<idCitation>
<resTitle Sync="TRUE">espes_sedimentos</resTitle>
<presForm>
<PresFormCd Sync="TRUE" value="011">
</PresFormCd>
</presForm>
</idCitation>
<spatRpType>
<SpatRepTypCd Sync="TRUE" value="002">
</SpatRepTypCd>
</spatRpType>
<idAbs>xxx</idAbs>
<searchKeys>
<keyword>geologia marinha</keyword>
</searchKeys>
<idPurp>xxx</idPurp>
<idCredit>Serviço Geológico do Brasil - SGB - CPRM</idCredit>
<resConst>
<Consts>
<useLimit>Livre</useLimit>
</Consts>
</resConst>
</dataIdInfo>
<mdLang>
<languageCode Sync="TRUE" value="por">
</languageCode>
<countryCode Sync="TRUE" value="BRA">
</countryCode>
</mdLang>
<distInfo>
<distFormat>
<formatName Sync="TRUE">File Geodatabase Raster Dataset</formatName>
</distFormat>
</distInfo>
<mdHrLv>
<ScopeCd Sync="TRUE" value="005">
</ScopeCd>
</mdHrLv>
<mdHrLvName Sync="TRUE">dataset</mdHrLvName>
<spdoinfo>
<rastinfo>
<rasttype Sync="TRUE">Pixel</rasttype>
<rowcount Sync="TRUE">3547</rowcount>
<colcount Sync="TRUE">3191</colcount>
<rastxsz Sync="TRUE">0,014105</rastxsz>
<rastysz Sync="TRUE">0,014105</rastysz>
<rastbpp Sync="TRUE">8</rastbpp>
<vrtcount Sync="TRUE">1</vrtcount>
<rastorig Sync="TRUE">Upper Left</rastorig>
<rastcmap Sync="TRUE">FALSE</rastcmap>
<rastcomp Sync="TRUE">LZ77</rastcomp>
<rastband Sync="TRUE">3</rastband>
<rastdtyp Sync="TRUE">pixel codes</rastdtyp>
<rastifor Sync="TRUE">FGDBR</rastifor>
<rastplyr Sync="TRUE">TRUE</rastplyr>
</rastinfo>
</spdoinfo>
<spref>
<horizsys>
<planar>
<planci>
<plance Sync="TRUE">row and column</plance>
<coordrep>
<absres Sync="TRUE">0,014105</absres>
<ordres Sync="TRUE">0,014105</ordres>
</coordrep>
</planci>
</planar>
</horizsys>
</spref>
<mdDateSt Sync="TRUE">20171101</mdDateSt>
</metadata>
