{ "currentVersion": 11.3, "serviceDescription": "
Imagem geofĂsica Sinal.<\/SPAN><\/P><\/DIV><\/DIV>",
"name": "geofisica_sinal",
"description": " Imagem geofĂsica Sinal.<\/SPAN><\/P><\/DIV><\/DIV>",
"extent": {
"xmin": -70.27619499999997,
"ymin": -33.324005,
"xmax": -30.95219466755882,
"ymax": 5.051995324426856,
"spatialReference": {
"wkid": 4674,
"latestWkid": 4674
}
},
"initialExtent": {
"xmin": -70.27619499999997,
"ymin": -33.324005,
"xmax": -30.95219466755882,
"ymax": 5.051995324426856,
"spatialReference": {
"wkid": 4674,
"latestWkid": 4674
}
},
"fullExtent": {
"xmin": -70.27619499999997,
"ymin": -33.324005,
"xmax": -30.95219466755882,
"ymax": 5.051995324426856,
"spatialReference": {
"wkid": 4674,
"latestWkid": 4674
}
},
"sortableFields": "",
"bandCount": 3,
"pixelType": "U8",
"minValues": [
0,
0,
0
],
"maxValues": [
255,
255,
255
],
"meanValues": [
144.0452171696545,
146.32910020442333,
78.52207887442367
],
"stdvValues": [
122.62322426404974,
104.59258943049774,
111.51461933337485
],
"hasMultidimensions": false,
"pixelSizeX": 0.0020000000169077994,
"pixelSizeY": 0.0020000000169077994,
"meanPixelSize": 222.63898346871474,
"datasetFormat": "FGDBR",
"uncompressedSize": 1131823368,
"blockWidth": 128,
"blockHeight": 128,
"compressionType": "NONE",
"bandNames": [
"Band_1",
"Band_2",
"Band_3"
],
"allowCopy": true,
"allowAnalysis": true,
"itemAccess": false,
"inspectionCapabilities": "",
"minPixelSize": 0,
"maxPixelSize": 0,
"copyrightText": "CPRM",
"serviceDataType": "esriImageServiceDataTypeRGB",
"serviceSourceType": "esriImageServiceSourceTypeDataset",
"objectIdField": "",
"fields": [],
"capabilities": "Image,Metadata,Mensuration",
"defaultMosaicMethod": "Center",
"allowedMosaicMethods": "",
"sortField": "",
"sortValue": null,
"sortAscending": true,
"mosaicOperator": "First",
"defaultCompressionQuality": 75,
"defaultResamplingMethod": "Bilinear",
"maxImageHeight": 4100,
"maxImageWidth": 15000,
"allowRasterFunction": true,
"rasterFunctionInfos": [
{
"name": "None",
"description": "",
"help": ""
}
],
"rasterTypeInfos": [
{
"name": "Raster Dataset",
"description": "Supports all ArcGIS Raster Datasets",
"help": ""
}
],
"mensurationCapabilities": "Basic",
"hasHistograms": true,
"hasColormap": false,
"hasRasterAttributeTable": false,
"minScale": 0,
"maxScale": 0,
"exportTilesAllowed": false,
"supportsStatistics": false,
"supportsAdvancedQueries": false,
"editFieldsInfo": null,
"ownershipBasedAccessControlForRasters": null,
"allowComputeTiePoints": false,
"useStandardizedQueries": true,
"advancedQueryCapabilities": {
"useStandardizedQueries": true,
"supportsStatistics": false,
"supportsOrderBy": false,
"supportsDistinct": false,
"supportsPagination": false
},
"spatialReference": {
"wkid": 4674,
"latestWkid": 4674
}
}